BEGIN:VCALENDAR
VERSION:2.0
PRODID:-//SportPlan//Event Calendar//EN
CALSCALE:GREGORIAN
BEGIN:VEVENT
UID:fb7bf17a-3644-40b3-9195-05141c85e158@sportplan.local
DTSTAMP:20260425T014837Z
DTSTART;VALUE=DATE:20260801
DTEND;VALUE=DATE:20260802
SUMMARY:CTP Slovakman 2026
DESCRIPTION:Official STÚ 2026 calendar lists CTP Slovakman\, Piešťany\, 23. ročník\, on 01.08.2026 as a long-distance triathlon cup event.
LOCATION:Piešťany\, Slovakia
URL:https://sportplan.vercel.app/eu/events/ctp-slovakman-2026-2026-08-01
END:VEVENT
END:VCALENDAR
