BEGIN:VCALENDAR
VERSION:2.0
PRODID:-//SportPlan//Event Calendar//EN
CALSCALE:GREGORIAN
BEGIN:VEVENT
UID:767d1718-e0b0-4f93-9674-ed2980249df5@sportplan.local
DTSTAMP:20260424T211532Z
DTSTART;VALUE=DATE:20260424
DTEND;VALUE=DATE:20260425
SUMMARY:Corrida des Sorcières
DESCRIPTION:Official Corrida des Sorcières registration page lists the 24 April 2026 evening road race in Lonzée near Gembloux\, with 3.5 km\, 7 km\, 10.5 km\, and kids' races.
LOCATION:Gembloux
URL:https://sportplan.vercel.app/eu/events/corrida-des-sorcieres-gembloux-2026-04-24
END:VEVENT
END:VCALENDAR
