BEGIN:VCALENDAR
VERSION:2.0
PRODID:-//SportPlan//Event Calendar//EN
CALSCALE:GREGORIAN
BEGIN:VEVENT
UID:5acd32b1-b811-4a4c-bdc4-7cef51921d36@sportplan.local
DTSTAMP:20260424T231316Z
DTSTART;VALUE=DATE:20260328
DTEND;VALUE=DATE:20260329
SUMMARY:CISK 0.0 XCO Series 2026 - Race 1
DESCRIPTION:CISK 0.0 XCO Series 2026 - Race 1 is an official amateur cross-country mountain bike race at Miżieb Woodland Public Reserve\, Malta\, on 28 March 2026\, published on the Malta Mountain Bike Association event-detail page.
LOCATION:Miżieb Woodland Public Reserve\, St Paul's Bay\, Malta
URL:https://sportplan.vercel.app/eu/events/cisk-0-0-xco-series-2026-race-1-mizieb-woodland-public-reserve-2026-03-28
END:VEVENT
END:VCALENDAR
