BEGIN:VCALENDAR
VERSION:2.0
PRODID:-//SportPlan//Event Calendar//EN
CALSCALE:GREGORIAN
BEGIN:VEVENT
UID:cb9273cf-367c-4a87-9570-59239d8ab1c7@sportplan.local
DTSTAMP:20260424T211710Z
DTSTART;VALUE=DATE:20260222
DTEND;VALUE=DATE:20260223
SUMMARY:Circuito 4 Desafios - Trail del Cocido 13K
DESCRIPTION:
LOCATION:Robledo de Chavela\, Madrid\, Comunidad de Madrid
URL:https://sportplan.vercel.app/eu/events/circuito-4-desafios-trail-del-cocido-13k-robledo-de-chavela-2026-02-22-13k
END:VEVENT
END:VCALENDAR
