BEGIN:VCALENDAR
VERSION:2.0
PRODID:-//SportPlan//Event Calendar//EN
CALSCALE:GREGORIAN
BEGIN:VEVENT
UID:c718b7fd-5b0b-4a58-a369-6e81d96ae7ef@sportplan.local
DTSTAMP:20260425T001502Z
DTSTART;VALUE=DATE:20260802
DTEND;VALUE=DATE:20260803
SUMMARY:Carrera Popular y Senderista Moralzarzal - Madrid se Mueve X Madrid
DESCRIPTION:Carrera Popular y Senderista Moralzarzal - Madrid se Mueve X Madrid se celebrará el 2 de agosto de 2026 en Moralzarzal\, Madrid\, Madrid. Es una cita ideal para quienes buscan un recorrido bien organizado\, buen ambiente y una experiencia deportiva memorable. La distancia prevista es de 10 km\, lo que la convierte en una opción atractiva tanto para participantes habituales como para quienes quieren marcarse un nuevo reto.
LOCATION:Moralzarzal\, Madrid\, Madrid
URL:https://sportplan.vercel.app/eu/events/carrera-popular-y-senderista-moralzarzal-madrid-se-mueve-x-madrid-moralzarzal-20
END:VEVENT
END:VCALENDAR
