BEGIN:VCALENDAR
VERSION:2.0
PRODID:-//SportPlan//Event Calendar//EN
CALSCALE:GREGORIAN
BEGIN:VEVENT
UID:173467a0-266a-4551-ba0a-22577cf55331@sportplan.local
DTSTAMP:20260425T162130Z
DTSTART;VALUE=DATE:20260301
DTEND;VALUE=DATE:20260302
SUMMARY:Carrera de la Primavera Comunidad de Madrid 2026 Año del Caballo
DESCRIPTION:Carrera de la Primavera Comunidad de Madrid 2026 Año del Caballo is an official 1 March 2026 running event in Madrid with start and finish at the Explanada del Puente del Rey. The official page presents a festive\, amateur-friendly race day with 5K\, 8K and 16K options\, including a longer route passing through Casa de Campo.
LOCATION:Madrid
URL:https://sportplan.vercel.app/eu/events/carrera-de-la-primavera-comunidad-de-madrid-2026-ano-del-caballo
END:VEVENT
END:VCALENDAR
