BEGIN:VCALENDAR
VERSION:2.0
PRODID:-//SportPlan//Event Calendar//EN
CALSCALE:GREGORIAN
BEGIN:VEVENT
UID:cb833b61-dbf7-4dbf-83f6-65c03eedd1dc@sportplan.local
DTSTAMP:20260424T211710Z
DTSTART;VALUE=DATE:20260425
DTEND;VALUE=DATE:20260426
SUMMARY:BKT TRAPAGARAN 2026 — TXAKURKROS 10K
DESCRIPTION:The official Bizkaia Kopa Trail Trapagaran page lists the Trapagaran round on 25 April 2026 in Valle de Trápaga-Trapagaran\, and the linked RockTheSport page is the live participant registration entry for the event. This row covers the 10K Txakurkros format within the official BKT Trapagaran programme.
LOCATION:Valle de Trápaga-Trapagaran
URL:https://sportplan.vercel.app/eu/events/bkt-trapagaran-2026-txakurkros-10k-valle-de-trapaga-trapagaran-2026-04-25
END:VEVENT
END:VCALENDAR
