BEGIN:VCALENDAR
VERSION:2.0
PRODID:-//SportPlan//Event Calendar//EN
CALSCALE:GREGORIAN
BEGIN:VEVENT
UID:bdd97d86-dc43-4e21-b07d-bb7b82831028@sportplan.local
DTSTAMP:20260425T000501Z
DTSTART;VALUE=DATE:20260503
DTEND;VALUE=DATE:20260504
SUMMARY:Belfast City Marathon
DESCRIPTION:Belfast City Marathon takes place in Belfast on May 3\, 2026\, offering participants a great chance to enjoy the atmosphere of race day in this destination. The route distance is to be confirmed. Expect an energizing event environment\, local support on site\, and a course suited to both dedicated runners and motivated newcomers.
LOCATION:Belfast
URL:https://sportplan.vercel.app/eu/events/belfast-city-marathon-belfast-2026-05-03
END:VEVENT
END:VCALENDAR
