BEGIN:VCALENDAR
VERSION:2.0
PRODID:-//SportPlan//Event Calendar//EN
CALSCALE:GREGORIAN
BEGIN:VEVENT
UID:e3af0af6-c0c1-408f-87ac-6f6c0858330c@sportplan.local
DTSTAMP:20260425T000512Z
DTSTART;VALUE=DATE:20260523
DTEND;VALUE=DATE:20260525
SUMMARY:BATT Éco Triathlon 2026
DESCRIPTION:Official LF3 page for the 23–24 May 2026 BATT Éco Triathlon at Freux-Menil. The official event listing highlights kids\, youth\, sprint\, standard\, relay mixte and handisport races\, with participant registration directed to the organizer site.
LOCATION:Freux-Menil
URL:https://sportplan.vercel.app/eu/events/batt-eco-triathlon-2026-freux-2026-05-23
END:VEVENT
END:VCALENDAR
