BEGIN:VCALENDAR
VERSION:2.0
PRODID:-//SportPlan//Event Calendar//EN
CALSCALE:GREGORIAN
BEGIN:VEVENT
UID:ae2a957f-35a4-47aa-a1f6-a515016432f1@sportplan.local
DTSTAMP:20260425T034717Z
DTSTART;VALUE=DATE:20260502
DTEND;VALUE=DATE:20260503
SUMMARY:BANGKOK 21K PARK RUN 2026
DESCRIPTION:Official Thai.Run event page lists BANGKOK 21K PARK RUN 2026 in Bangkok on 2026-05-02. Public registration is handled on the linked Thai.Run registration page.
LOCATION:Bangkok
URL:https://sportplan.vercel.app/eu/events/bangkok21kparkrun2026-2026-05-02
END:VEVENT
END:VCALENDAR
