BEGIN:VCALENDAR
VERSION:2.0
PRODID:-//SportPlan//Event Calendar//EN
CALSCALE:GREGORIAN
BEGIN:VEVENT
UID:28781238-734c-47dc-a86b-8216d80f05f9@sportplan.local
DTSTAMP:20260425T035025Z
DTSTART;VALUE=DATE:20260718
DTEND;VALUE=DATE:20260719
SUMMARY:BANGKOK POST INTERNATIONAL MINI MARATHON 2026 : RUN FOR NURSES (ครั้งที่15)
DESCRIPTION:Official Thai.Run registration page for Bangkok Post International Mini Marathon 2026.
LOCATION:Bangkok\, Bangkok
URL:https://sportplan.vercel.app/eu/events/bangkok-post-international-mini-marathon-2026-run-for-nurses-15-bangkok-2026-07-18
END:VEVENT
END:VCALENDAR
