BEGIN:VCALENDAR
VERSION:2.0
PRODID:-//SportPlan//Event Calendar//EN
CALSCALE:GREGORIAN
BEGIN:VEVENT
UID:3dffd679-c589-42df-b083-9aca6ffc52ce@sportplan.local
DTSTAMP:20260425T034816Z
DTSTART;VALUE=DATE:20261115
DTEND;VALUE=DATE:20261116
SUMMARY:Bangkok Marathon 2026
DESCRIPTION:Official Bangkok Marathon site for the 15 November 2026 race in Bangkok. The official organizer page publishes the public race schedule and start times for marathon\, half marathon\, mini marathon\, and 5 km distances from Sanam Chai Road.
LOCATION:Bangkok\, Bangkok
URL:https://sportplan.vercel.app/eu/events/bangkok-marathon-2026-bangkok-2026-11-15
END:VEVENT
END:VCALENDAR
