BEGIN:VCALENDAR
VERSION:2.0
PRODID:-//SportPlan//Event Calendar//EN
CALSCALE:GREGORIAN
BEGIN:VEVENT
UID:f331e275-7b59-4fe2-80ac-e6c886b3d8dc@sportplan.local
DTSTAMP:20260425T034918Z
DTSTART;VALUE=DATE:20260815
DTEND;VALUE=DATE:20260816
SUMMARY:AVANA RUN 2026 : Together We Run
DESCRIPTION:Official Thai.Run registration page for AVANA RUN 2026 : Together We Run in Bangkok.
LOCATION:Bangkok\, Bangkok
URL:https://sportplan.vercel.app/eu/events/avana-run-2026-together-we-run-bangkok-2026-08-15
END:VEVENT
END:VCALENDAR
