BEGIN:VCALENDAR
VERSION:2.0
PRODID:-//SportPlan//Event Calendar//EN
CALSCALE:GREGORIAN
BEGIN:VEVENT
UID:1a2f382e-c999-4838-b5d5-eecb1f42a648@sportplan.local
DTSTAMP:20260425T015053Z
DTSTART;VALUE=DATE:20260514
DTEND;VALUE=DATE:20260515
SUMMARY:Auffahrtslauf St. Gallen - Half Marathon
DESCRIPTION:Official Auffahrtslauf St. Gallen website for the amateur-enterable St. Gallen running event. The organizer-owned site links registration and course pages and shows 2026 event-season updates\, making it the canonical source for the half-marathon row.
LOCATION:St. Gallen\, Switzerland
URL:https://sportplan.vercel.app/eu/events/auffahrtslauf-st-gallen-half-marathon-2026-05-14
END:VEVENT
END:VCALENDAR
