BEGIN:VCALENDAR
VERSION:2.0
PRODID:-//SportPlan//Event Calendar//EN
CALSCALE:GREGORIAN
BEGIN:VEVENT
UID:eed46fea-26e4-4360-b8f7-5ea0772d0eca@sportplan.local
DTSTAMP:20260425T015147Z
DTSTART;VALUE=DATE:20260705
DTEND;VALUE=DATE:20260706
SUMMARY:ASICS Gold Coast Marathon 2026
DESCRIPTION:The ASICS Gold Coast Marathon is a large open-entry road marathon on the Gold Coast\, with date\, distance\, and participant information published on the official race page.
LOCATION:Broadwater Parklands\, Southport
URL:https://sportplan.vercel.app/eu/events/asics-gold-coast-marathon-2026-southport-2026-07-05
END:VEVENT
END:VCALENDAR
