BEGIN:VCALENDAR
VERSION:2.0
PRODID:-//SportPlan//Event Calendar//EN
CALSCALE:GREGORIAN
BEGIN:VEVENT
UID:7da5f6ec-1bab-4694-9b0b-2d5c849e6737@sportplan.local
DTSTAMP:20260424T223103Z
DTSTART;VALUE=DATE:20260513
DTEND;VALUE=DATE:20260514
SUMMARY:Aquathlon de Brûlon (72)
DESCRIPTION:Official FFTRI/T2Area fiche lists Aquathlon de Brûlon (72) in BRÛLON on 2026-05-13 with Jeunes 1\, Jeunes 2\, XXS\, XS\, S formats.
LOCATION:BRÛLON\, Pays de la Loire
URL:https://sportplan.vercel.app/eu/events/aquathlon-de-brulon-72-brulon-2026-05-13
END:VEVENT
END:VCALENDAR
