BEGIN:VCALENDAR
VERSION:2.0
PRODID:-//SportPlan//Event Calendar//EN
CALSCALE:GREGORIAN
BEGIN:VEVENT
UID:27a1628f-1d0f-44c7-afda-0f80b525907d@sportplan.local
DTSTAMP:20260425T014800Z
DTSTART;VALUE=DATE:20260821
DTEND;VALUE=DATE:20260824
SUMMARY:AirAsia HYROX Perth 2026
DESCRIPTION:AirAsia HYROX Perth 2026 is listed on the official HYROX event page for 21–23 August 2026 in Perth\, Western Australia. HYROX presents the solo\, doubles\, and relay race formats on the organizer-owned page and provides the official featured image for this amateur-enterable event.
LOCATION:Perth\, Western Australia
URL:https://sportplan.vercel.app/eu/events/airasia-hyrox-perth-2026-perth-2026-08-21
END:VEVENT
END:VCALENDAR
