BEGIN:VCALENDAR
VERSION:2.0
PRODID:-//SportPlan//Event Calendar//EN
CALSCALE:GREGORIAN
BEGIN:VEVENT
UID:b75dce1e-0758-4709-8e07-42eeab0e4faa@sportplan.local
DTSTAMP:20260425T001128Z
DTSTART;VALUE=DATE:20260614
DTEND;VALUE=DATE:20260615
SUMMARY:A Revolta Irmandiña 2026 — Tanda 3 (Starter) 3K
DESCRIPTION:A Revolta Irmandiña 2026 — Tanda 3 (Starter) 3K se celebrará el 14 junio 2026 en Verín. Es una buena oportunidad para vivir el ambiente del evento y compartir la experiencia con otros participantes y asistentes. La distancia prevista es de 3 km\, ideal para quienes buscan un reto bien definido en esta cita.
LOCATION:Verín
URL:https://sportplan.vercel.app/eu/events/a-revolta-irmandina-2026-tanda-3-starter-3k-verin-2026-06-14
END:VEVENT
END:VCALENDAR
