BEGIN:VCALENDAR
VERSION:2.0
PRODID:-//SportPlan//Event Calendar//EN
CALSCALE:GREGORIAN
BEGIN:VEVENT
UID:de13e838-b0d6-42cf-b1b8-69695a7aa1ea@sportplan.local
DTSTAMP:20260425T000232Z
DTSTART;VALUE=DATE:20260621
DTEND;VALUE=DATE:20260622
SUMMARY:5150 Westfriesland
DESCRIPTION:Experience 5150 Westfriesland: a 1.5 km swim in Hoorn's old harbor\, a 40 km bike ride through Dutch countryside\, and a 10 km run through the historic city center.
LOCATION:Hoorn\, Netherlands
URL:https://sportplan.vercel.app/eu/events/5150-westfriesland-2026-06-21
END:VEVENT
END:VCALENDAR
