BEGIN:VCALENDAR
VERSION:2.0
PRODID:-//SportPlan//Event Calendar//EN
CALSCALE:GREGORIAN
BEGIN:VEVENT
UID:7bb440a1-ef2e-46af-9490-aa4224036794@sportplan.local
DTSTAMP:20260425T000233Z
DTSTART;VALUE=DATE:20260920
DTEND;VALUE=DATE:20260921
SUMMARY:5150 Samal
DESCRIPTION:Experience 5150 Samal: a 1.5km ocean swim\, 40km rolling bike ride along coastal roads\, and 10km flat run through Samal's vibrant business center.
LOCATION:Samal\, Philippines
URL:https://sportplan.vercel.app/eu/events/5150-samal-2026-09-20
END:VEVENT
END:VCALENDAR
