BEGIN:VCALENDAR
VERSION:2.0
PRODID:-//SportPlan//Event Calendar//EN
CALSCALE:GREGORIAN
BEGIN:VEVENT
UID:23ab1114-e8da-44ce-94cc-30fe26fb7d9d@sportplan.local
DTSTAMP:20260425T001329Z
DTSTART;VALUE=DATE:20260503
DTEND;VALUE=DATE:20260504
SUMMARY:28^ EDIZIONE GRANFONDO DELLA VERSILIA
DESCRIPTION:FCI detail page 178900 lists Amatoriale\, competitive Gran Fondo/Medio Fondo\, with categories ammesse 'tutte le categorie amatoriali\, compresi i tesserati E.P.S. con convenzione attiva'. Exact-title and official-URL Supabase checks returned no matches.
LOCATION:Viareggio (LU)
URL:https://sportplan.vercel.app/eu/events/28-edizione-granfondo-della-versilia-viareggio-2026-05-03
END:VEVENT
END:VCALENDAR
