BEGIN:VCALENDAR
VERSION:2.0
PRODID:-//SportPlan//Event Calendar//EN
CALSCALE:GREGORIAN
BEGIN:VEVENT
UID:d0afe6d6-d9f4-4560-8c03-987d924a46a4@sportplan.local
DTSTAMP:20260425T014833Z
DTSTART;VALUE=DATE:20260926
DTEND;VALUE=DATE:20260927
SUMMARY:12 Rowerowy Bieg Piastów — Giga 60 km
DESCRIPTION:Official 2026 Bieg Piastów calendar lists the 12th Rowerowy Bieg Piastów weekend on 26-27 September 2026\; the 26 September program includes the Giga 60 km amateur MTB distance.
LOCATION:Polana Jakuszycka / Góry Izerskie\, Poland
URL:https://sportplan.vercel.app/eu/events/12-rowerowy-bieg-piastow-giga-60-km
END:VEVENT
END:VCALENDAR
