BEGIN:VCALENDAR
VERSION:2.0
PRODID:-//SportPlan//Event Calendar//EN
CALSCALE:GREGORIAN
BEGIN:VEVENT
UID:5ef9e92f-2102-4438-8d1f-c4287fb2ea5b@sportplan.local
DTSTAMP:20260421T213641Z
DTSTART;VALUE=DATE:20260501
DTEND;VALUE=DATE:20260502
SUMMARY:XVII Maratón Xtremelagos
DESCRIPTION:
LOCATION:Covadonga
URL:https://sportplan.vercel.app/es/events/xvii-maraton-xtremelagos-covadonga-2026-05-01-42k
END:VEVENT
END:VCALENDAR
