BEGIN:VCALENDAR
VERSION:2.0
PRODID:-//SportPlan//Event Calendar//EN
CALSCALE:GREGORIAN
BEGIN:VEVENT
UID:f54b42a3-7a01-4c2d-9b95-1aec23d7c22c@sportplan.local
DTSTAMP:20260421T212512Z
DTSTART;VALUE=DATE:20260524
DTEND;VALUE=DATE:20260525
SUMMARY:Vertical del Lago di Como 2026
DESCRIPTION:Vertical del Lago di Como 2026 is an official vertical running race on 24 May 2026 in Carate Urio\, Lombardy. The official Lago di Como Vertical site provides the event image and event description\, and the Skyrunning Italia 2026 calendar confirms the date and location.
LOCATION:Carate Urio
URL:https://sportplan.vercel.app/es/events/vertical-del-lago-di-como-2026-carate-urio-2026-05-24
END:VEVENT
END:VCALENDAR
