BEGIN:VCALENDAR
VERSION:2.0
PRODID:-//SportPlan//Event Calendar//EN
CALSCALE:GREGORIAN
BEGIN:VEVENT
UID:49000e5c-e53a-452d-87e7-c84c91de2fa9@sportplan.local
DTSTAMP:20260421T213848Z
DTSTART;VALUE=DATE:20260901
DTEND;VALUE=DATE:20260902
SUMMARY:Ultratrail Canfranc-Canfranc - 70K
DESCRIPTION:Ultratrail Canfranc-Canfranc - 70K se celebrará el 1 de septiembre de 2026 en Canfranc\, Huesca\, Aragón. Es una buena cita para participantes y acompañantes que buscan un ambiente activo y bien organizado. La distancia anunciada es de 70 km.
LOCATION:Canfranc\, Huesca\, Aragón
URL:https://sportplan.vercel.app/es/events/ultratrail-canfranc-canfranc-70k-canfranc-2026-09-01-70k
END:VEVENT
END:VCALENDAR
