BEGIN:VCALENDAR
VERSION:2.0
PRODID:-//SportPlan//Event Calendar//EN
CALSCALE:GREGORIAN
BEGIN:VEVENT
UID:bb7d04f1-2e7f-4fe1-b57c-55e5a83091eb@sportplan.local
DTSTAMP:20260421T224829Z
DTSTART;VALUE=DATE:20261129
DTEND;VALUE=DATE:20261130
SUMMARY:Granfondo Colombia 2026
DESCRIPTION:Granfondo Colombia is scheduled for 29 November 2026 in Bogotá\, Colombia. The official organizer site confirms the 2026 date and Bogotá venue for this amateur-enterable UCI Gran Fondo World Series event.
LOCATION:Bogotá
URL:https://sportplan.vercel.app/es/events/uci-gran-fondo-world-series-colombia-2026-2026-11-29
END:VEVENT
END:VCALENDAR
