BEGIN:VCALENDAR
VERSION:2.0
PRODID:-//SportPlan//Event Calendar//EN
CALSCALE:GREGORIAN
BEGIN:VEVENT
UID:1238bf63-3e29-46cb-b735-3180476c5044@sportplan.local
DTSTAMP:20260421T200855Z
DTSTART;VALUE=DATE:20260425
DTEND;VALUE=DATE:20260427
SUMMARY:Triathlon de la Nivelle (64)
DESCRIPTION:Official FFTRI fiche for the Triathlon de la Nivelle weekend in Saint-Pée-sur-Nivelle\, with youth\, XS\, S\, and M triathlon formats across 25 and 26 April 2026 for amateur racers.
LOCATION:Saint-Pée-sur-Nivelle\, Nouvelle-Aquitaine\, France
URL:https://sportplan.vercel.app/es/events/triathlon-de-la-nivelle-64-saint-pee-sur-nivelle-2026-04-25
END:VEVENT
END:VCALENDAR
