BEGIN:VCALENDAR
VERSION:2.0
PRODID:-//SportPlan//Event Calendar//EN
CALSCALE:GREGORIAN
BEGIN:VEVENT
UID:6573ec84-6b4b-4d95-a22e-36cfe69a35c6@sportplan.local
DTSTAMP:20260421T185322Z
DTSTART;VALUE=DATE:20260421
DTEND;VALUE=DATE:20260422
SUMMARY:Trail des Elfes et Druides
DESCRIPTION:Trail des Elfes et Druides a lieu à Pfaffenheim le 21 avril 2026. C’est un rendez-vous parfait pour profiter d’une belle journée de course\, avec un parcours de 20 km\, idéal autant pour viser un chrono que pour profiter de l’ambiance locale. Que vous visiez la performance ou une expérience plus conviviale\, l’événement promet une ambiance motivante du début à la fin.
LOCATION:Pfaffenheim
URL:https://sportplan.vercel.app/es/events/trail-des-elfes-et-druides-pfaffenheim-2026-04-21
END:VEVENT
END:VCALENDAR
