BEGIN:VCALENDAR
VERSION:2.0
PRODID:-//SportPlan//Event Calendar//EN
CALSCALE:GREGORIAN
BEGIN:VEVENT
UID:f438dbe1-9753-43ac-a81c-0de04796b012@sportplan.local
DTSTAMP:20260421T224513Z
DTSTART;VALUE=DATE:20260512
DTEND;VALUE=DATE:20260513
SUMMARY:Trail de Bienservida
DESCRIPTION:Trail de Bienservida se celebra el 12 de mayo de 2026 en Bienservida\, Albacete\, Castilla-La Mancha. La prueba recorre 31 km. Ideal para participantes que quieren disfrutar del recorrido\, el ambiente del evento y una jornada activa.
LOCATION:Bienservida\, Albacete\, Castilla-La Mancha
URL:https://sportplan.vercel.app/es/events/trail-de-bienservida-bienservida-2026-05-12-31k
END:VEVENT
END:VCALENDAR
