BEGIN:VCALENDAR
VERSION:2.0
PRODID:-//SportPlan//Event Calendar//EN
CALSCALE:GREGORIAN
BEGIN:VEVENT
UID:d8c27028-5ab3-4866-a4da-92e1d23fbe00@sportplan.local
DTSTAMP:20260422T022836Z
DTSTART;VALUE=DATE:20260523
DTEND;VALUE=DATE:20260524
SUMMARY:The Taniwha Mountain Bike & Trail Run
DESCRIPTION:The Taniwha Mountain Bike & Trail Run is the official Waikato River Trails event on 23 May 2026\, with trail-running\, walking\, and duathlon options across native bush\, wetlands\, single track\, and lake-and-river views.
LOCATION:Lake Whakamaru
URL:https://sportplan.vercel.app/es/events/the-taniwha-mountain-bike-trail-run-lake-whakamaru-2026-05-23
END:VEVENT
END:VCALENDAR
