BEGIN:VCALENDAR
VERSION:2.0
PRODID:-//SportPlan//Event Calendar//EN
CALSCALE:GREGORIAN
BEGIN:VEVENT
UID:70ad5d02-39d6-4eeb-8157-745ec8efe82f@sportplan.local
DTSTAMP:20260421T224619Z
DTSTART;VALUE=DATE:20260710
DTEND;VALUE=DATE:20260712
SUMMARY:The Majestics 2026
DESCRIPTION:The Majestics 2026 is the official alpine cycling event weekend in Villars from 10 to 12 July 2026\, with road\, gravel\, and time trial race formats presented on the organizer-owned site themajestics.ch.
LOCATION:Villars-sur-Ollon\, CH
URL:https://sportplan.vercel.app/es/events/the-majestics-villars-sur-ollon-2026-07-10
END:VEVENT
END:VCALENDAR
