BEGIN:VCALENDAR
VERSION:2.0
PRODID:-//SportPlan//Event Calendar//EN
CALSCALE:GREGORIAN
BEGIN:VEVENT
UID:8043d090-4343-4235-b4cb-fc4e73ad07ae@sportplan.local
DTSTAMP:20260421T224621Z
DTSTART;VALUE=DATE:20260427
DTEND;VALUE=DATE:20260428
SUMMARY:Territorio Mentiras Trail de Llano
DESCRIPTION:Territorio Mentiras Trail de Llano se celebra el 27 de abril de 2026 en Yeste\, Albacete\, Castilla-La Mancha\, con un recorrido de 14\,17 km. Es una gran cita para corredores que buscan una experiencia bien organizada y un ambiente competitivo en un entorno destacado.
LOCATION:Yeste\, Albacete\, Castilla-La Mancha
URL:https://sportplan.vercel.app/es/events/territorio-mentiras-trail-de-llano-yeste-2026-04-27-14-17k
END:VEVENT
END:VCALENDAR
