BEGIN:VCALENDAR
VERSION:2.0
PRODID:-//SportPlan//Event Calendar//EN
CALSCALE:GREGORIAN
BEGIN:VEVENT
UID:e7c1eb33-aa81-4b87-84e0-c12c2a23fbc9@sportplan.local
DTSTAMP:20260421T224618Z
DTSTART;VALUE=DATE:20260427
DTEND;VALUE=DATE:20260428
SUMMARY:Territorio Mentiras Senderista
DESCRIPTION:Territorio Mentiras Senderista se celebra el 27 de abril de 2026 en Yeste\, Albacete\, Castilla-La Mancha\, con un recorrido de 13\,8 km. Es una gran cita para corredores que buscan una experiencia bien organizada y un ambiente competitivo en un entorno destacado.
LOCATION:Yeste\, Albacete\, Castilla-La Mancha
URL:https://sportplan.vercel.app/es/events/territorio-mentiras-senderista-yeste-2026-04-27-13-8k
END:VEVENT
END:VCALENDAR
