BEGIN:VCALENDAR
VERSION:2.0
PRODID:-//SportPlan//Event Calendar//EN
CALSCALE:GREGORIAN
BEGIN:VEVENT
UID:d88cda5d-6783-457e-9f17-be3eb1c40974@sportplan.local
DTSTAMP:20260421T200858Z
DTSTART;VALUE=DATE:20260427
DTEND;VALUE=DATE:20260428
SUMMARY:Territorio Mentiras - Media Maratón
DESCRIPTION:Territorio Mentiras - Media Maratón se celebra el 27 de abril de 2026 en Yeste\, Albacete\, Castilla-La Mancha\, con un recorrido de 26\,6 km. Es una gran cita para corredores que buscan una experiencia bien organizada y un ambiente competitivo en un entorno destacado.
LOCATION:Yeste\, Albacete\, Castilla-La Mancha
URL:https://sportplan.vercel.app/es/events/territorio-mentiras-media-maraton-yeste-2026-04-27-26-6k
END:VEVENT
END:VCALENDAR
