BEGIN:VCALENDAR
VERSION:2.0
PRODID:-//SportPlan//Event Calendar//EN
CALSCALE:GREGORIAN
BEGIN:VEVENT
UID:79c49a3e-b688-4fc0-95ff-20bf2dc8f406@sportplan.local
DTSTAMP:20260421T224319Z
DTSTART;VALUE=DATE:20261025
DTEND;VALUE=DATE:20261026
SUMMARY:Standard Chartered Nairobi Marathon
DESCRIPTION:Standard Chartered Nairobi Marathon 2026 is the official participant-facing road-running event site for the 25 October 2026 edition in Nairobi\, Kenya. The official race programme lists public-entry 42 km marathon\, 21 km half marathon\, 10 km race\, 5 km race\, and 21 km wheelchair categories.
LOCATION:Nairobi\, Kenya
URL:https://sportplan.vercel.app/es/events/standard-chartered-nairobi-marathon-2026-10-25
END:VEVENT
END:VCALENDAR
