BEGIN:VCALENDAR
VERSION:2.0
PRODID:-//SportPlan//Event Calendar//EN
CALSCALE:GREGORIAN
BEGIN:VEVENT
UID:f4d457b9-0fa9-415d-82a4-8c91e25f6db7@sportplan.local
DTSTAMP:20260421T184210Z
DTSTART;VALUE=DATE:20260124
DTEND;VALUE=DATE:20260125
SUMMARY:SkySnow Schia Monte Caio 2026
DESCRIPTION:SkySnow Schia Monte Caio 2026 is an official winter skyrunning race on 24 January 2026 in Schia\, Tizzano Val Parma\, Emilia-Romagna. The official Schia Monte Caio organizer page publishes the 2026 SkySnow race notice\, two amateur-enterable distances\, and current event poster imagery.
LOCATION:Schia Tizzano Val Parma
URL:https://sportplan.vercel.app/es/events/skysnow-schia-monte-caio-2026-schia-tizzano-val-parma-2026-01-24
END:VEVENT
END:VCALENDAR
