BEGIN:VCALENDAR
VERSION:2.0
PRODID:-//SportPlan//Event Calendar//EN
CALSCALE:GREGORIAN
BEGIN:VEVENT
UID:c820face-e144-40f9-bac8-7f828938bbe2@sportplan.local
DTSTAMP:20260421T184009Z
DTSTART;VALUE=DATE:20260201
DTEND;VALUE=DATE:20260202
SUMMARY:Scaldagambe Winter Trail 2026
DESCRIPTION:Scaldagambe Winter Trail 2026 is an official winter trail running event on 1 February 2026 in Carvico\, Lombardy. The Skyrunning Italia 2026 calendar lists it as a SkyRun in Carvico\, and the official race site confirms the Scaldagambe event brand and image asset.
LOCATION:Carvico
URL:https://sportplan.vercel.app/es/events/scaldagambe-winter-trail-2026-carvico-2026-02-01
END:VEVENT
END:VCALENDAR
