BEGIN:VCALENDAR
VERSION:2.0
PRODID:-//SportPlan//Event Calendar//EN
CALSCALE:GREGORIAN
BEGIN:VEVENT
UID:da4f9824-aa87-4453-9fc5-dd25023a6661@sportplan.local
DTSTAMP:20260421T184944Z
DTSTART;VALUE=DATE:20260221
DTEND;VALUE=DATE:20260222
SUMMARY:Sauze SkySnow Race 2026
DESCRIPTION:Sauze SkySnow Race 2026 is an official Skyrunning Italia calendar snow race on 21 February 2026 in Sauze d'Oulx\, Piedmont. The organizer-owned Piossasco Trail Runners event page describes a technical course on the Vialattea ski slopes with start and finish at the Clotes chairlift\, supporting this as an official amateur-enterable winter skyrunning event.
LOCATION:Sauze d'Oulx
URL:https://sportplan.vercel.app/es/events/sauze-skysnow-race-2026-sauze-d-oulx-2026-02-21
END:VEVENT
END:VCALENDAR
