BEGIN:VCALENDAR
VERSION:2.0
PRODID:-//SportPlan//Event Calendar//EN
CALSCALE:GREGORIAN
BEGIN:VEVENT
UID:39402fd1-15b4-4348-9303-ea7bd1486064@sportplan.local
DTSTAMP:20260421T200728Z
DTSTART;VALUE=DATE:20260717
DTEND;VALUE=DATE:20260720
SUMMARY:Run the Blades - Breaking Strain Events
DESCRIPTION:Run the Blades - Breaking Strain Events takes place in Eaglesham on July 17\, 2026\, bringing runners together for an enjoyable event in a memorable setting. Expect with a clearly marked course and race-day atmosphere\, making it a solid choice for both committed participants and motivated newcomers.
LOCATION:Eaglesham
URL:https://sportplan.vercel.app/es/events/run-the-blades-breaking-strain-events-eaglesham-2026-07-17
END:VEVENT
END:VCALENDAR
