BEGIN:VCALENDAR
VERSION:2.0
PRODID:-//SportPlan//Event Calendar//EN
CALSCALE:GREGORIAN
BEGIN:VEVENT
UID:70686bbc-47fa-4103-a5ac-71a0ca9897e2@sportplan.local
DTSTAMP:20260422T084457Z
DTSTART;VALUE=DATE:20260703
DTEND;VALUE=DATE:20260706
SUMMARY:Québec Méga Trail
DESCRIPTION:Québec Mega Trail 2026 is the organizer's flagship ultra-trail festival in Québec\, spanning the wild trails between Charlevoix and Mont-Sainte-Anne. The official site describes it as Canada's most prestigious ultra-trail event\, with multiple amateur-enterable courses and race experiences throughout the event weekend.
LOCATION:Beaupré
URL:https://sportplan.vercel.app/es/events/quebec-mega-trail-beaupre-2026-07-03
END:VEVENT
END:VCALENDAR
