BEGIN:VCALENDAR
VERSION:2.0
PRODID:-//SportPlan//Event Calendar//EN
CALSCALE:GREGORIAN
BEGIN:VEVENT
UID:5b4a892d-3ac9-4cc8-9130-f6c370bb44ee@sportplan.local
DTSTAMP:20260422T082546Z
DTSTART;VALUE=DATE:20260701
DTEND;VALUE=DATE:20260702
SUMMARY:Qmt 80
DESCRIPTION:QMT 80 is part of the official Québec Mega Trail 2026 weekend\, promoted by the organizer as one of Canada's flagship ultra-trail events across the wild trails between Charlevoix and Mont-Sainte-Anne. The official site positions the event within a multi-race festival built around mountain terrain\, scenic wilderness\, and amateur participation.
LOCATION:Côte-de-Beaupré\, Québec
URL:https://sportplan.vercel.app/es/events/qmt-80-cote-de-beaupre-2026-07-01-80k
END:VEVENT
END:VCALENDAR
