BEGIN:VCALENDAR
VERSION:2.0
PRODID:-//SportPlan//Event Calendar//EN
CALSCALE:GREGORIAN
BEGIN:VEVENT
UID:7ff84740-249a-4a4c-bb1e-acd1bdb462af@sportplan.local
DTSTAMP:20260422T082911Z
DTSTART;VALUE=DATE:20260701
DTEND;VALUE=DATE:20260702
SUMMARY:Qmt 32
DESCRIPTION:QMT 32 is part of the official Québec Mega Trail 2026 weekend\, an amateur-enterable trail-running festival staged on the mountain terrain between Charlevoix and Mont-Sainte-Anne. The official site describes Québec Mega Trail as Canada's most prestigious ultra-trail event family with multiple race formats for different participant levels.
LOCATION:Côte-de-Beaupré\, Québec
URL:https://sportplan.vercel.app/es/events/qmt-32-cote-de-beaupre-2026-07-01-32k
END:VEVENT
END:VCALENDAR
