BEGIN:VCALENDAR
VERSION:2.0
PRODID:-//SportPlan//Event Calendar//EN
CALSCALE:GREGORIAN
BEGIN:VEVENT
UID:c18a1c9e-f651-4c6a-916d-2e953c2cc9ae@sportplan.local
DTSTAMP:20260422T082804Z
DTSTART;VALUE=DATE:20260701
DTEND;VALUE=DATE:20260702
SUMMARY:Qmt 25
DESCRIPTION:QMT 25 is part of the official Québec Mega Trail 2026 weekend\, an amateur-enterable trail-running festival staged on the mountain terrain between Charlevoix and Mont-Sainte-Anne. The official site describes Québec Mega Trail as Canada's most prestigious ultra-trail event family with multiple race formats for different participant levels.
LOCATION:Côte-de-Beaupré\, Québec
URL:https://sportplan.vercel.app/es/events/qmt-25-cote-de-beaupre-2026-07-01-25k
END:VEVENT
END:VCALENDAR
