BEGIN:VCALENDAR
VERSION:2.0
PRODID:-//SportPlan//Event Calendar//EN
CALSCALE:GREGORIAN
BEGIN:VEVENT
UID:61f47aaf-1e36-4e9b-8a5c-9ae637eb4f50@sportplan.local
DTSTAMP:20260422T082514Z
DTSTART;VALUE=DATE:20260701
DTEND;VALUE=DATE:20260702
SUMMARY:Qmt 15
DESCRIPTION:QMT 15 is part of the official Québec Mega Trail 2026 weekend\, an amateur-enterable trail-running festival staged on the mountain terrain between Charlevoix and Mont-Sainte-Anne. The official site describes Québec Mega Trail as Canada's most prestigious ultra-trail event family with multiple race formats for different participant levels.
LOCATION:Côte-de-Beaupré\, Québec
URL:https://sportplan.vercel.app/es/events/qmt-15-cote-de-beaupre-2026-07-01-15k
END:VEVENT
END:VCALENDAR
