BEGIN:VCALENDAR
VERSION:2.0
PRODID:-//SportPlan//Event Calendar//EN
CALSCALE:GREGORIAN
BEGIN:VEVENT
UID:d4851e81-ac57-42fd-ad7d-05f40bed9e0b@sportplan.local
DTSTAMP:20260421T224619Z
DTSTART;VALUE=DATE:20260512
DTEND;VALUE=DATE:20260513
SUMMARY:Nerpio Juglans Trail - 22K
DESCRIPTION:Nerpio Juglans Trail - 22K se celebra el 12 de mayo de 2026 en Nerpio\, Albacete\, Castilla-La Mancha. La prueba recorre 22 km. Ideal para participantes que quieren disfrutar del recorrido\, el ambiente del evento y una jornada activa.
LOCATION:Nerpio\, Albacete\, Castilla-La Mancha
URL:https://sportplan.vercel.app/es/events/nerpio-juglans-trail-22k-nerpio-2026-05-12-22k
END:VEVENT
END:VCALENDAR
