BEGIN:VCALENDAR
VERSION:2.0
PRODID:-//SportPlan//Event Calendar//EN
CALSCALE:GREGORIAN
BEGIN:VEVENT
UID:2228297e-a94f-4b49-8f48-2549085df1cd@sportplan.local
DTSTAMP:20260421T224345Z
DTSTART;VALUE=DATE:20260607
DTEND;VALUE=DATE:20260608
SUMMARY:Nairobi City Marathon
DESCRIPTION:Official Nairobi City Marathon 2026 event site for the 5th edition on 7 June 2026 in Nairobi\, Kenya. The official programme lists amateur-enterable marathon\, half marathon\, 10K Expressway Run\, and 5K Fun Run categories on the Nairobi Expressway.
LOCATION:Kenya
URL:https://sportplan.vercel.app/es/events/nairobi-city-marathon-2026-06-07
END:VEVENT
END:VCALENDAR
