BEGIN:VCALENDAR
VERSION:2.0
PRODID:-//SportPlan//Event Calendar//EN
CALSCALE:GREGORIAN
BEGIN:VEVENT
UID:a066d7eb-03d9-426a-934e-d37574a63201@sportplan.local
DTSTAMP:20260421T213851Z
DTSTART;VALUE=DATE:20260516
DTEND;VALUE=DATE:20260518
SUMMARY:Mtri Alicante
DESCRIPTION:Official MTRI Alicante page on the Mediterránea Triatlón organizer site. The page confirms the 16 to 17 May 2026 race weekend in Alicante with Sprint\, Olímpico\, Supersprint\, and Duatlón Familiar formats open to federated and non-federated participants.
LOCATION:Alicante
URL:https://sportplan.vercel.app/es/events/mtri-alicante-alicante-2026-05-16
END:VEVENT
END:VCALENDAR
