BEGIN:VCALENDAR
VERSION:2.0
PRODID:-//SportPlan//Event Calendar//EN
CALSCALE:GREGORIAN
BEGIN:VEVENT
UID:2341252e-c500-4479-9885-889f4f1a6b22@sportplan.local
DTSTAMP:20260421T184009Z
DTSTART;VALUE=DATE:20260208
DTEND;VALUE=DATE:20260209
SUMMARY:Montasio Winter Trail 2026
DESCRIPTION:Montasio Winter Trail 2026 is an official Skyrunning Italia calendar winter trail race on 8 February 2026 in Sella Nevea\, Friuli Venezia Giulia. The organizer-owned Team Sky Friul site lists Montasio Winter Trail among its flagship event families\, supporting this as a federation-calendar amateur skyrunning candidate on the official organizer domain.
LOCATION:Sella Nevea
URL:https://sportplan.vercel.app/es/events/montasio-winter-trail-2026-sella-nevea-2026-02-08
END:VEVENT
END:VCALENDAR
