BEGIN:VCALENDAR
VERSION:2.0
PRODID:-//SportPlan//Event Calendar//EN
CALSCALE:GREGORIAN
BEGIN:VEVENT
UID:4a57efac-7139-4bf5-9e60-27e898f92d59@sportplan.local
DTSTAMP:20260421T224218Z
DTSTART;VALUE=DATE:20261004
DTEND;VALUE=DATE:20261005
SUMMARY:Medio Maratón de Albacete 2026
DESCRIPTION:
LOCATION:Albacete
URL:https://sportplan.vercel.app/es/events/medio-maraton-de-albacete-2026
END:VEVENT
END:VCALENDAR
