BEGIN:VCALENDAR
VERSION:2.0
PRODID:-//SportPlan//Event Calendar//EN
CALSCALE:GREGORIAN
BEGIN:VEVENT
UID:a3710ed8-92a7-406c-b7c5-81dbb0a8c490@sportplan.local
DTSTAMP:20260421T213736Z
DTSTART;VALUE=DATE:20260510
DTEND;VALUE=DATE:20260511
SUMMARY:Media Maratón Internacional Ciudad de Asunción
DESCRIPTION:discovered via Brave web_search + web_fetch on direct World's Marathons Paraguay event page
LOCATION:Asunción\, Paraguay
URL:https://sportplan.vercel.app/es/events/media-maraton-internacional-ciudad-de-asuncion-2026-05-10
END:VEVENT
END:VCALENDAR
